BEGIN:VCALENDAR
VERSION:2.0
PRODID:SchoolNow
CALSCALE:GREGORIAN
BEGIN:VEVENT
UID:b0b2b014-366d-11ec-93a7-0e02e5758b77
DTSTAMP:20221024T192829Z
SUMMARY:VETERAN'S DAY 11/11/2022
URL;VALUE=URI:https://www.dist126.org/early-childhood-center/calendar/28450
 00/veterans-day
DTSTART;VALUE=DATE:20221111
DTEND;VALUE=DATE:20221112
END:VEVENT
END:VCALENDAR
